BEGIN:VCALENDAR
VERSION:2.0
PRODID:-//Middle Tennessee Veterinary Center - ECPv6.3.6//NONSGML v1.0//EN
CALSCALE:GREGORIAN
METHOD:PUBLISH
X-WR-CALNAME:Middle Tennessee Veterinary Center
X-ORIGINAL-URL:https://middletnvetcenter.com
X-WR-CALDESC:Events for Middle Tennessee Veterinary Center
REFRESH-INTERVAL;VALUE=DURATION:PT1H
X-Robots-Tag:noindex
X-PUBLISHED-TTL:PT1H
BEGIN:VTIMEZONE
TZID:UTC
BEGIN:STANDARD
TZOFFSETFROM:+0000
TZOFFSETTO:+0000
TZNAME:UTC
DTSTART:20230101T000000
END:STANDARD
END:VTIMEZONE
BEGIN:VEVENT
DTSTART;VALUE=DATE:20231101
DTEND;VALUE=DATE:20231102
DTSTAMP:20260420T115554
CREATED:20231023T173717Z
LAST-MODIFIED:20231023T174938Z
UID:2206-1698796800-1698883199@middletnvetcenter.com
SUMMARY:The Eye Vets
DESCRIPTION:Schedule an appointment by calling (615) 640-6335
URL:https://middletnvetcenter.com/event/the-eye-vets/
LOCATION:Middle Tennessee Veterinary Center\, 910 Meadowlark Lane\, Goodlettsville\, TN\, 37072\, United States
END:VEVENT
BEGIN:VEVENT
DTSTART;VALUE=DATE:20231115
DTEND;VALUE=DATE:20231116
DTSTAMP:20260420T115554
CREATED:20231030T172040Z
LAST-MODIFIED:20231030T172040Z
UID:2236-1700006400-1700092799@middletnvetcenter.com
SUMMARY:The Eye Vets
DESCRIPTION:Call (615) 640-6335 to schedule an appointment!
URL:https://middletnvetcenter.com/event/the-eye-vets-2/
LOCATION:Middle Tennessee Veterinary Center\, 910 Meadowlark Lane\, Goodlettsville\, TN\, 37072\, United States
END:VEVENT
BEGIN:VEVENT
DTSTART;VALUE=DATE:20231116
DTEND;VALUE=DATE:20231117
DTSTAMP:20260420T115554
CREATED:20231030T173514Z
LAST-MODIFIED:20231030T173514Z
UID:2240-1700092800-1700179199@middletnvetcenter.com
SUMMARY:Migratory Avian Services
DESCRIPTION:Call (615) 601-2356 to schedule an appointment!
URL:https://middletnvetcenter.com/event/migratory-avian-services/
LOCATION:Middle Tennessee Veterinary Center\, 910 Meadowlark Lane\, Goodlettsville\, TN\, 37072\, United States
END:VEVENT
BEGIN:VEVENT
DTSTART;VALUE=DATE:20231123
DTEND;VALUE=DATE:20231124
DTSTAMP:20260420T115554
CREATED:20231030T173753Z
LAST-MODIFIED:20231030T173753Z
UID:2245-1700697600-1700783999@middletnvetcenter.com
SUMMARY:Closed for Thanksgiving
DESCRIPTION:
URL:https://middletnvetcenter.com/event/closed-for-thanksgiving/
LOCATION:Middle Tennessee Veterinary Center\, 910 Meadowlark Lane\, Goodlettsville\, TN\, 37072\, United States
END:VEVENT
BEGIN:VEVENT
DTSTART;VALUE=DATE:20231124
DTEND;VALUE=DATE:20231125
DTSTAMP:20260420T115554
CREATED:20231030T173813Z
LAST-MODIFIED:20231030T173813Z
UID:2247-1700784000-1700870399@middletnvetcenter.com
SUMMARY:Closed for Thanksgiving
DESCRIPTION:
URL:https://middletnvetcenter.com/event/closed-for-thanksgiving-2/
LOCATION:Middle Tennessee Veterinary Center\, 910 Meadowlark Lane\, Goodlettsville\, TN\, 37072\, United States
END:VEVENT
BEGIN:VEVENT
DTSTART;VALUE=DATE:20231129
DTEND;VALUE=DATE:20231130
DTSTAMP:20260420T115554
CREATED:20231030T172125Z
LAST-MODIFIED:20231030T172125Z
UID:2238-1701216000-1701302399@middletnvetcenter.com
SUMMARY:The Eye Vets
DESCRIPTION:Call (615) 640-6335 to schedule an appointment!
URL:https://middletnvetcenter.com/event/the-eye-vets-3/
LOCATION:Middle Tennessee Veterinary Center\, 910 Meadowlark Lane\, Goodlettsville\, TN\, 37072\, United States
END:VEVENT
BEGIN:VEVENT
DTSTART;VALUE=DATE:20231130
DTEND;VALUE=DATE:20231201
DTSTAMP:20260420T115554
CREATED:20231030T173655Z
LAST-MODIFIED:20231030T173655Z
UID:2243-1701302400-1701388799@middletnvetcenter.com
SUMMARY:Migratory Avian Services
DESCRIPTION:Call (615) 601-2356 to schedule an appointment!
URL:https://middletnvetcenter.com/event/migratory-avian-services-2/
LOCATION:Middle Tennessee Veterinary Center\, 910 Meadowlark Lane\, Goodlettsville\, TN\, 37072\, United States
END:VEVENT
END:VCALENDAR