BEGIN:VCALENDAR
VERSION:2.0
PRODID:-//Middle Tennessee Veterinary Center - ECPv6.3.6//NONSGML v1.0//EN
CALSCALE:GREGORIAN
METHOD:PUBLISH
X-ORIGINAL-URL:https://middletnvetcenter.com
X-WR-CALDESC:Events for Middle Tennessee Veterinary Center
REFRESH-INTERVAL;VALUE=DURATION:PT1H
X-Robots-Tag:noindex
X-PUBLISHED-TTL:PT1H
BEGIN:VTIMEZONE
TZID:UTC
BEGIN:STANDARD
TZOFFSETFROM:+0000
TZOFFSETTO:+0000
TZNAME:UTC
DTSTART:20240101T000000
END:STANDARD
END:VTIMEZONE
BEGIN:VEVENT
DTSTART;VALUE=DATE:20240417
DTEND;VALUE=DATE:20240418
DTSTAMP:20260420T121511
CREATED:20240408T173108Z
LAST-MODIFIED:20240408T173108Z
UID:2478-1713312000-1713398399@middletnvetcenter.com
SUMMARY:The Eye Vets
DESCRIPTION:Call (615) 640-6335 to schedule an appointment!
URL:https://middletnvetcenter.com/event/the-eye-vets-11/
LOCATION:Middle Tennessee Veterinary Center\, 910 Meadowlark Lane\, Goodlettsville\, TN\, 37072\, United States
END:VEVENT
END:VCALENDAR